BEGIN:VCALENDAR
VERSION:2.0
PRODID:-//DIGITAL FACTORY//EVENTS MAKER V1.6.14//EN
CALSCALE:GREGORIAN
BEGIN:VEVENT
DTEND:20170707
UID:69e5ba308da2c
DTSTAMP:20260420T053128Z
CATEGORIES:фестиваль
DESCRIPTION:Веломандрівка\, сільський квест\, катання на конях\, водяні битви\, фаєр-шоу\, купальські обряди та майстер-класи. Ці та інші розваги чекають гостей Етно-еко фестивалю «Буща папороть» який проводитиметься вперше.    В рамках свята для гостей проведуть пішу екскурсію екологічною стежкою «Від Волині до Поділля»\, а також мандрівку веломаршрутом «Велика пригода в Дермансько-Острозькому національному природному парку».    Любителів спорту чекатиме відкритий турнір з футболу та волейболу. А ще гості зможуть пройти сільський вуличний квест та взяти участь «Водяних битвах».  У програмі фестивалю ще й купальські обрядодії - плетіння віночків\, пускання їх на воду\, хороводи та запалення вогнища. Творчі аматорські колективи Рівненщини розважатимуть присутніх мистецькою програмою «Купальський вогнецвіт».  Протягом фестивальних днів будуть проводитись спортивно-історичні гутірки\, майстер-класи по характерництву (оздоровча практика) та «Травниця» з частуванням чаями. Також пригостять кулішем\, ухою та стравами місцевої кухні.    Територія фестивалю включатиме локації: мистецька галявина\, галявина для малечі\,  дике поле\, стовп–сюрприз від національного природного парку «Дермансько-Острозький»\, етнофотозона та зона барбекю. Для бажаючих заночувати діятиме наметове містечко «Готель під зорями»\, тимчасовий хостел в школі\, а також можна буде зупинитися у місцевих мешканців за невелику платню.  За додатковою інформацією звертайтеся:  - відділ культури і туризму Здолбунівської РДА\,  роб.тел.: (03652) 2-23-55\, електронна адреса: zdoltur@ukr.net\;  - відділ організаційно-інформаційного забезпечення та документообігу апарату Здолбунівської РДА  роб.тел.: (03652) 2-51-32\, електронна адреса: zdol_orgvid@ukr.net.    Офіційна сторінка фестивалю у Фейсбук: https://www.facebook.com/Buscha.Paporot/?fref=ts#        Доїзд до місця проведення фестивалю "Буща Папороть" із дубенського напрямку:        Доїзд до місця проведення фестивалю "Буща Папороть" із рівненського напрямку:
URL;VALUE=URI:https://mini-rivne.com/events/event/etno-eko-festyval%ca%b9-bushcha-paporot%ca%b9/
SUMMARY:Етно-еко фестиваль «Буща папороть»
DTSTART:20170705
END:VEVENT
END:VCALENDAR
