BEGIN:VCALENDAR
VERSION:2.0
PRODID:-//DIGITAL FACTORY//EVENTS MAKER V1.6.14//EN
CALSCALE:GREGORIAN
BEGIN:VEVENT
DTEND:20181203T110000Z
UID:69e79a017493b
DTSTAMP:20260421T153841Z
CATEGORIES:розвиваючі заняття
LOCATION:Центр психологічного розвитку вул. Княгині Ольги 5\, оф. 610, Рівне, UA
DESCRIPTION:Психологи помічають таку закономірність :       	Діти із заниженою самооцінкою\, підвищеною тривожністю й сором’язливістю охоче вибирають фігурки й зосереджуються на них.   	Дітям із нестійкою увагою\, досить експресивним\, гра дає багаті кінестетичні відчуття.   	Агресивні діти легко вибирають персонажів\, що символізують «агресора» і його «жертву».   	Дітям\, які пережили психічну травму\, така гра допомагає прожити травматичну подію і пов’язані з нею переживання\, екологічно для психіки дитини.    У Центрі є нові можливості для розвитку дитини\, психолог Анна Стецюк\, знає спосіб як ті можливості реалізувати.  Мета психолога в процесі піскової терапії — дати дитині можливість отримати досвід\, коли можна просто бути собою. Погодьтесь\, що не кожен з нас\, дорослих\, може собі це дозволити. Правда ж? Ми не можемо дати дитині того\, чого немає у нас.  Піскова терапія допомагає дитині:     	навчитись відповідальності у своїх діях і вчинках\;   	розвинути в собі здатність до самосприйняття\;   	отримати ресурс у прояві почуттів.   	досягати цілі і асимілювати досвід\;   	комфортно для себе сформувати рівень самооцінки\;   	довіряти собі.    Групові заняття у піску:  щопонеділка з 12:00 до 13:00.  щовівторка 18:00 – 19:00.    Вартість: 100 грн/заняття.    Індивідуальні заняття проводяться в домовлений час.  Вартість: 300 грн/заняття.    Місце: вул. Кн. Ольги 5\, офіс 610.    Більше про психолога групи\, Анну Стецюк:    [youtube https://www.youtube.com/watch?v=2Lo7H7vZhRs&amp\;w=1126&amp\;h=504]
URL;VALUE=URI:https://mini-rivne.com/events/event/piskova-terapiya/
SUMMARY:Піскова терапія для дітей у центрі Яни Ліщук
DTSTART:20181203T100000Z
END:VEVENT
END:VCALENDAR
